BEGIN:VCALENDAR
VERSION:2.0
PRODID:-//jEvents 2.0 for Joomla//EN
CALSCALE:GREGORIAN
METHOD:PUBLISH
BEGIN:VEVENT
UID:d5afac1986b06dca066759f315a1eccc
CATEGORIES:Allmänt
SUMMARY:Wärdshuset helgöppet
LOCATION:Strandvägen 25 Tavelsjö
DESCRIPTION;ENCODING=QUOTED-PRINTABLE:\n\n\n
CONTACT:070 243 29 40  |  Email: Den här e-postadressen skyddas mot spambots. Du måste tillåta JavaScript för att se den.
				document.getElementById('cloakae6676754214b266f730288947ba892c').innerHTML = '';
				var prefix = '&#109;a' + 'i&#108;' + '&#116;o';
				var path = 'hr' + 'ef' + '=';
				var addyae6676754214b266f730288947ba892c = '&#105;nf&#111;' + '&#64;';
				addyae6676754214b266f730288947ba892c = addyae6676754214b266f730288947ba892c + 't&#97;v&#101;lsj&#111;w&#97;rdsh&#117;s' + '&#46;' + 's&#101;';
				var addy_textae6676754214b266f730288947ba892c = '&#105;nf&#111;' + '&#64;' + 't&#97;v&#101;lsj&#111;w&#97;rdsh&#117;s' + '&#46;' + 's&#101;';document.getElementById('cloakae6676754214b266f730288947ba892c').innerHTML += ''+addy_textae6676754214b266f730288947ba892c+'';
		
X-EXTRAINFO:Helgens lunch Fläsklägg med rotmos och senap\nLax med kokt potatis, inlagd 
 morot, dillmajjo & äppelchipp\nInklusive kaffe, sallad, bröd och smör\nÁ la
  carteFörrätterWärdshustoast Kantareller från orten, smörstekt bröd, färsko
 st & lökJordärtkockssoppa Jordärtskocka, vitlök & jordärtskockschipsBrusche
 tta Stekt bröd, tomat, lök & basilikaVarmrätterWallenbergare Wallenbergare 
 på kalvkött, potatispuré, lingon, ärtor & brynt smörWärdshusburgaren Högrev
 sburgare från Hansen, chipotlemajonnäs, picklad rödlök, cheddarost & saltgu
 rkaVegetariskt alternativ - Halloumi från Svedjan OstTorskrygg Torskrygg, s
 altbakad rotselleri, brynt grädde, kapris & morotDessertPannacotta Vaniljpa
 nnacotta & blåbärscoulisKey lime pie Key lime pie med digestivecrumble & gr
 äddese mer på: https://www.xn--tavelsjwrdshus-dib00a.se/meny
DTSTAMP:20260422T213014Z
DTSTART:20201120T110000Z
DTEND:20201120T180000Z
SEQUENCE:0
TRANSP:OPAQUE
END:VEVENT
END:VCALENDAR