BEGIN:VCALENDAR
VERSION:2.0
PRODID:-//jEvents 2.0 for Joomla//EN
CALSCALE:GREGORIAN
METHOD:PUBLISH
BEGIN:VEVENT
UID:669ca08ff5ca57afd2f5cde60a5bc545
CATEGORIES:Allmänt
SUMMARY:Lördag på Wärdshuset
LOCATION:Strandvägen 25 Tavelsjö
DESCRIPTION;ENCODING=QUOTED-PRINTABLE:\n\n\n
CONTACT:070 243 29 40  |  Email: Den här e-postadressen skyddas mot spambots. Du måste tillåta JavaScript för att se den.
				document.getElementById('cloak59ede1cfb40c0b5df3d537f715d42eaa').innerHTML = '';
				var prefix = '&#109;a' + 'i&#108;' + '&#116;o';
				var path = 'hr' + 'ef' + '=';
				var addy59ede1cfb40c0b5df3d537f715d42eaa = '&#105;nf&#111;' + '&#64;';
				addy59ede1cfb40c0b5df3d537f715d42eaa = addy59ede1cfb40c0b5df3d537f715d42eaa + 't&#97;v&#101;lsj&#111;w&#97;rdsh&#117;s' + '&#46;' + 's&#101;';
				var addy_text59ede1cfb40c0b5df3d537f715d42eaa = '&#105;nf&#111;' + '&#64;' + 't&#97;v&#101;lsj&#111;w&#97;rdsh&#117;s' + '&#46;' + 's&#101;';document.getElementById('cloak59ede1cfb40c0b5df3d537f715d42eaa').innerHTML += ''+addy_text59ede1cfb40c0b5df3d537f715d42eaa+'';
		
X-EXTRAINFO:Helgens lunch v.47\nFläsklägg med rotmos och senap\nLax med kokt potatis, i
 nlagd morot, dillmajjo & äppelchipp\nInklusive kaffe, sallad, bröd och smör
 \nse mer på: https://www.xn--tavelsjwrdshus-dib00a.se/meny
DTSTAMP:20260422T214037Z
DTSTART:20201121T110000Z
DTEND:20201121T160000Z
SEQUENCE:0
TRANSP:OPAQUE
END:VEVENT
END:VCALENDAR