BEGIN:VCALENDAR
VERSION:2.0
PRODID:-//jEvents 2.0 for Joomla//EN
CALSCALE:GREGORIAN
METHOD:PUBLISH
BEGIN:VEVENT
UID:c6eea04dc28473002f1881d4d4d1197b
CATEGORIES:Allmänt
SUMMARY:Veckans nyheter Wärdshuset
LOCATION:Strandvägen 25 Tavelsjö
DESCRIPTION;ENCODING=QUOTED-PRINTABLE:\n\n\n
CONTACT:070 243 29 40  |  Email: Den här e-postadressen skyddas mot spambots. Du måste tillåta JavaScript för att se den.
				document.getElementById('cloak43034597d6874152689df00680383e06').innerHTML = '';
				var prefix = '&#109;a' + 'i&#108;' + '&#116;o';
				var path = 'hr' + 'ef' + '=';
				var addy43034597d6874152689df00680383e06 = '&#105;nf&#111;' + '&#64;';
				addy43034597d6874152689df00680383e06 = addy43034597d6874152689df00680383e06 + 't&#97;v&#101;lsj&#111;w&#97;rdsh&#117;s' + '&#46;' + 's&#101;';
				var addy_text43034597d6874152689df00680383e06 = '&#105;nf&#111;' + '&#64;' + 't&#97;v&#101;lsj&#111;w&#97;rdsh&#117;s' + '&#46;' + 's&#101;';document.getElementById('cloak43034597d6874152689df00680383e06').innerHTML += ''+addy_text43034597d6874152689df00680383e06+'';
		
X-EXTRAINFO:Helgens lunch v.47\nFläsklägg med rotmos och senap\nLax med kokt potatis, i
 nlagd morot, dillmajjo & äppelchipp\nInklusive kaffe, sallad, bröd och smör
 \nBeställ: Fredagspåsen 20 novemberFörrätt:Toast skagen på handskalade räko
 rVarmrätt:Fjällröding med blomkålspuré, picklad fänkål & dillmajjoVi skicka
 r även med sallad, bröd och smör för samtliga portioner du beställer.Familj
 epåsen (2 vuxna & 2 barn) Fredag 20 november.Pannbiff med potatispuré, gräd
 dsås & hemkokt lingonsyltVi skickar även med sallad, bröd och smör till var
 je portion du beställer.Beställ senast torsdag kl 12. Upphämtning är tillgä
 nglig från klockan 14 på fredag.se mer på: https://www.xn--tavelsjwrdshus-d
 ib00a.se/meny
DTSTAMP:20260422T213941Z
DTSTART:20201119T110000Z
DTEND:20201119T160000Z
SEQUENCE:0
TRANSP:OPAQUE
END:VEVENT
END:VCALENDAR