BEGIN:VCALENDAR
VERSION:2.0
PRODID:-//jEvents 2.0 for Joomla//EN
CALSCALE:GREGORIAN
METHOD:PUBLISH
BEGIN:VEVENT
UID:38edc10e8f108b05345a8e5fa3eb0020
CATEGORIES:Allmänt
SUMMARY:Blomhyllan Handelsträdgård
LOCATION:Tavelsjövägen 14
DESCRIPTION;ENCODING=QUOTED-PRINTABLE:\n\n\n
X-EXTRAINFO:~~*Blomhyllan Handelsträdgård*~~\nÖppet 12-15 denna fina Onsdag, Välkommen!
  ?\nTavelsjövägen 14
DTSTAMP:20260422T212913Z
DTSTART:20201118T120000Z
DTEND:20201118T150000Z
SEQUENCE:0
TRANSP:OPAQUE
END:VEVENT
END:VCALENDAR