BEGIN:VCALENDAR
VERSION:2.0
PRODID:-//jEvents 2.0 for Joomla//EN
CALSCALE:GREGORIAN
METHOD:PUBLISH
BEGIN:VEVENT
UID:1e1da9ece787ad6b443ac055345deefb
CATEGORIES:Allmänt
SUMMARY:Årsmöte LRF Tavelsjöbygden
LOCATION:Digitalt via Teams-länk
DESCRIPTION;ENCODING=QUOTED-PRINTABLE:\n\n\n
CONTACT:Anmälan till 073-065 12 09, Den här e-postadressen skyddas mot spambots. Du måste tillåta JavaScript för att se den.
				document.getElementById('cloake9b5923ff862f70fa5c9acfac02016dc').innerHTML = '';
				var prefix = '&#109;a' + 'i&#108;' + '&#116;o';
				var path = 'hr' + 'ef' + '=';
				var addye9b5923ff862f70fa5c9acfac02016dc = 's&#101;lm&#97;s&#117;ndstr&#111;m' + '&#64;';
				addye9b5923ff862f70fa5c9acfac02016dc = addye9b5923ff862f70fa5c9acfac02016dc + 'gm&#97;&#105;l' + '&#46;' + 'c&#111;m';
				var addy_texte9b5923ff862f70fa5c9acfac02016dc = 's&#101;lm&#97;s&#117;ndstr&#111;m' + '&#64;' + 'gm&#97;&#105;l' + '&#46;' + 'c&#111;m';document.getElementById('cloake9b5923ff862f70fa5c9acfac02016dc').innerHTML += ''+addy_texte9b5923ff862f70fa5c9acfac02016dc+'';
		.
X-EXTRAINFO:Lokalavdelningens medlemmar inbjuds till digitalt årsmöte.\nOBS! I kallelse
 n som kommer med posten anges en plats för fysiskt möte, men pga skärpta al
 lmänna råd införts i Västerbotten kommer mötet endast att genomföras digita
 lt.https://www.lrf.se/mitt-lrf/aktiviteter/roten/arsmote-i-tavelsjobygden-l
 rf/På grund av rådande pandemi ställer vi om årsmötet till att bli helt dig
 italt. Ni kan antingen logga in och vara med via datorn eller annan enhet e
 ller ringa in till mötet och vara med över telefon.Program:* Stadgeenliga ä
 rendenI år kommer vi inte ha någon föreläsning på årsmötet, men inspelade f
 öreläsningar i flera intressanta ämnen finns här!Välkomna!Anslut på din dat
 or eller mobilappKlicka här / kopiera . https://www.lrf.se/mitt-lrf/aktivit
 eter/roten/arsmote-i-tavelsjobygden-lrf/Eller ring in (endast ljud)+46 8 50
 5 323 27  Sweden, StockholmTelefonkonferens-ID: 115 041 923#
DTSTAMP:20260422T213812Z
DTSTART:20201126T190000Z
DTEND:20201126T200000Z
SEQUENCE:0
TRANSP:OPAQUE
END:VEVENT
END:VCALENDAR