BEGIN:VCALENDAR
VERSION:2.0
PRODID:-//jEvents 2.0 for Joomla//EN
CALSCALE:GREGORIAN
METHOD:PUBLISH
BEGIN:VEVENT
UID:625c1da88790532eddeb0c46ef6924db
CATEGORIES:Allmänt
SUMMARY:Helgöppet Rödå Antik
LOCATION:Rödåsel 61
DESCRIPTION;ENCODING=QUOTED-PRINTABLE:\n\n\n
CONTACT:Eva  070-3626557
X-EXTRAINFO:Butiken är öppen lördag o Söndag 11-16\n
DTSTAMP:20260422T212851Z
DTSTART:20201101T110000Z
DTEND:20201101T160000Z
SEQUENCE:0
TRANSP:OPAQUE
END:VEVENT
END:VCALENDAR