BEGIN:VCALENDAR
VERSION:2.0
PRODID:-//jEvents 2.0 for Joomla//EN
CALSCALE:GREGORIAN
METHOD:PUBLISH
BEGIN:VEVENT
UID:df3a55dbb9e98d491f9854b045f0697e
CATEGORIES:Allmänt
SUMMARY:Bokcirkel i Överrödå
LOCATION:Överrödå Byastuga
DESCRIPTION;ENCODING=QUOTED-PRINTABLE:<p>Bokcirkel med frukostknytis</p>
CONTACT:Jonna Wahlund 073 - 728 23 36  och Elin-Amanda Brantmo 072 - 313 40 14
DTSTAMP:20260423T031846Z
DTSTART:20201011T090000Z
DTEND:20201011T113000Z
SEQUENCE:0
TRANSP:OPAQUE
END:VEVENT
END:VCALENDAR