BEGIN:VCALENDAR
VERSION:2.0
PRODID:-//jEvents 2.0 for Joomla//EN
CALSCALE:GREGORIAN
METHOD:PUBLISH
BEGIN:VEVENT
UID:a3974f73f66eaac8001b355add5b811f
CATEGORIES:Allmänt
SUMMARY:Lördagsöppet Nordenssons gårdsbutik
LOCATION:Kroksjö 32
DESCRIPTION;ENCODING=QUOTED-PRINTABLE:\n\n\n
CONTACT:Elin 070-650 6163
X-EXTRAINFO:Hösten öppettider! \n Nytt för i år är tiderna på lördagar som nu kommer va
 ra mellan kl 12-16 och att vi även kommer att ha öppet vissa torsdagar mell
 an kl 16-19.\n Varmt välkommen!\n
DTSTAMP:20260422T214846Z
DTSTART:20201114T120000Z
DTEND:20201114T160000Z
SEQUENCE:0
TRANSP:OPAQUE
END:VEVENT
END:VCALENDAR