BEGIN:VCALENDAR
VERSION:2.0
PRODID:-//jEvents 2.0 for Joomla//EN
CALSCALE:GREGORIAN
METHOD:PUBLISH
BEGIN:VEVENT
UID:7ac7e483fc31fd1346254b5035f86556
CATEGORIES:Allmänt
SUMMARY:Inspirerande utflykt till Blåeld
LOCATION:Strandvägen 25 Tavelsjö
DESCRIPTION;ENCODING=QUOTED-PRINTABLE:\n\n\n
CONTACT:Katarina 070-308 3896
X-EXTRAINFO:Gör en inspirerande utflykt till Tavelsjö, Kristihimmelsfärdsdag, öppet 12-
 16, \nFika & Mat på Wärdshuset 12-15\n
DTSTAMP:20260420T132625Z
DTSTART:20190530T080000Z
DTEND:20190530T170000Z
SEQUENCE:0
TRANSP:OPAQUE
END:VEVENT
END:VCALENDAR