BEGIN:VCALENDAR
VERSION:2.0
PRODID:-//jEvents 2.0 for Joomla//EN
CALSCALE:GREGORIAN
METHOD:PUBLISH
BEGIN:VEVENT
UID:c24feb13a335606e3c3eee4c05d12008
CATEGORIES:Allmänt
SUMMARY:Öppentider Hansskogs
LOCATION:Norrby, Tavelsjö
DESCRIPTION;ENCODING=QUOTED-PRINTABLE:\n\n\n
CONTACT:Hansskogs Norrby  Tel: 090-67050
X-EXTRAINFO:Öppettiderna under Kristi himmelshelgen ?\n Gäller både Norrby och Teg. \nT
 orsdag 10-14\n Fredag 10 - 18\n Lördag 10-14\n Söndag 10-14\nVarmt välkomna
 ! ?
DTSTAMP:20260420T132626Z
DTSTART:20190530T100000Z
DTEND:20190530T140000Z
SEQUENCE:0
TRANSP:OPAQUE
END:VEVENT
END:VCALENDAR