BEGIN:VCALENDAR
VERSION:2.0
PRODID:-//jEvents 2.0 for Joomla//EN
CALSCALE:GREGORIAN
METHOD:PUBLISH
BEGIN:VEVENT
UID:a1f1675f5c57f827688b70108011e594
CATEGORIES:Allmänt
SUMMARY:Vandra med STF
LOCATION:Vännforsbäck
DESCRIPTION;ENCODING=QUOTED-PRINTABLE:\n\n\n
CONTACT:anmälan: Ingemar Nilsson 070 636 56 50 
X-EXTRAINFO:Vi startar vid Vännforsbäck och vandrar mot Selet. ett flertal rastplatser 
 med vindskydd finns efter leden som har några brantare partier upp- och ner
 för sandniporna. \nSamling: P-platsen V om jvgstn Umeå C. , 09:30 \nPlats: 
 Selet \nFör vem?  Alla \nFör mer information och anmälan: Ingemar Nilsson 0
 70 636 56 50 \n
DTSTAMP:20260420T150438Z
DTSTART:20190519T093000Z
DTEND:20190519T150000Z
SEQUENCE:0
TRANSP:OPAQUE
END:VEVENT
END:VCALENDAR