BEGIN:VCALENDAR
VERSION:2.0
PRODID:-//jEvents 2.0 for Joomla//EN
CALSCALE:GREGORIAN
METHOD:PUBLISH
BEGIN:VEVENT
UID:f0771697f9840901e5266b9b198d29fd
CATEGORIES:Allmänt
SUMMARY:Mobil mötesplats Brännboll
LOCATION:Rödåsels bygdegård
DESCRIPTION;ENCODING=QUOTED-PRINTABLE:\n\n\n
CONTACT:Erik Sandström 070-665 4413
X-EXTRAINFO:Lördag 18 maj 19-21 BRÄNNBOLL i Rödå\nMobil mötesplats Välkomna
DTSTAMP:20260420T150509Z
DTSTART:20190518T190000Z
DTEND:20190518T210000Z
SEQUENCE:0
TRANSP:OPAQUE
END:VEVENT
END:VCALENDAR