BEGIN:VCALENDAR
VERSION:2.0
PRODID:-//jEvents 2.0 for Joomla//EN
CALSCALE:GREGORIAN
METHOD:PUBLISH
BEGIN:VEVENT
UID:1b1ca8aefe1d5a3cf3053d07b6372b49
CATEGORIES:Allmänt
SUMMARY:Helgens Meny Wärdshuset
LOCATION:Wärdhuset, Tavelsjö Strandvägen 25
DESCRIPTION;ENCODING=QUOTED-PRINTABLE:\n\n\n
CONTACT:070-243 29 40  http://wardshusettavelsjo.se
X-EXTRAINFO:Kycklingspett med klyftpotatis eller morotssoppa med hembakat bröd.\nDet fi
 nns även räkmackor\nVeganer/vegetarianer erbjuds också morotssoppa, tzaybit
 ar/spett med potatis och en vegansk skagenröra på bröd ?\nDet är ju choklad
 bollens dag  så till kaffet passar det bra med två nya sorter utöver den ”v
 anliga” och det är en med päronkonjak och en med romsmak. \nLite vuxnare ka
 nske lite godare.\nVälkomna!
DTSTAMP:20260420T132631Z
DTSTART:20190511T120000Z
DTEND:20190511T160000Z
SEQUENCE:0
TRANSP:OPAQUE
END:VEVENT
END:VCALENDAR