BEGIN:VCALENDAR
VERSION:2.0
PRODID:-//jEvents 2.0 for Joomla//EN
CALSCALE:GREGORIAN
METHOD:PUBLISH
BEGIN:VEVENT
UID:8baa9d2745945d81847cdb60ed7cde22
CATEGORIES:Allmänt
SUMMARY:Premiär Vårcafé och Loppis
LOCATION:Norrby byastuga
DESCRIPTION;ENCODING=QUOTED-PRINTABLE:\n\n\n
CONTACT:Norrbyortens byaförening
X-EXTRAINFO:\nVårcafé och Loppis lördag 11/5. \n Kl 11-14.\n Välkomna!\n
DTSTAMP:20260420T132625Z
DTSTART:20190511T110000Z
DTEND:20190511T140000Z
SEQUENCE:0
TRANSP:OPAQUE
END:VEVENT
END:VCALENDAR