BEGIN:VCALENDAR
VERSION:2.0
PRODID:-//jEvents 2.0 for Joomla//EN
CALSCALE:GREGORIAN
METHOD:PUBLISH
BEGIN:VEVENT
UID:f5f922479a48405d08954a5f00c57c56
CATEGORIES:Allmänt
SUMMARY:Workshop om Tavelån
LOCATION:Tavelsjö Bygdegård, Näset 103 Tavelsjö
DESCRIPTION;ENCODING=QUOTED-PRINTABLE:\n\nHur ser framtidens Tavelån ut?\nSamverkan och åtgärder kring övergödnin
 g\n\n\nInbjudan till workshop och information kring ett nytt projekt om sam
 verkan och åtgärder kring övergödning i Tavelåns avrinningsområde. Projekte
 t är en del av en större satsning med finansiering från Havs- och vattenmyn
 digheten som ska främja vattensamverkan för att uppnå miljökvalitetsmålen I
 ngen övergödning, Levande sjöar och vattendrag samt Hav i balans och en lev
 ande kust &ndash; och skärgård. Nina Stenbacka, Umeå kommun är anställd und
 er två år för att driva lokal samverkan för att fånga upp det engagemanget 
 som finns kring dessa frågor.\n\n\nProgram för kvällen:\n&bull; Välkommen o
 ch info om nya projektet med målet att främja vattensamverkan inom avrinnin
 gsområdet\n&bull; Exempel på värdefulla vatten inom avrinningsområdet och n
 yttan med samverkan ur olika perspektiv\n&bull; Resultat av provtagning av 
 näringsbelastning som ligger till grund för åtgärder mot övergödning\n&bull
 ; Workshop: Resultatet från workshop kommer att sammanställas för att sedan
  användas som underlag i det fortsatta arbetet\nFrågor för workshop\n&bull;
  Hur nyttjar ni vattnet idag och vad tycker ni är bra med det?\n&bull; Hur 
 har det varit förut i vattnen i området? (vilka förändringar har noterats ö
 ver tid)\n&bull; Vilka problem upplever ni i era vatten idag?\n&bull; Hur t
 ycker ni att problemen bör åtgärdas &ndash; vad kan ni och andra göra för a
 tt bidra till detta?\n&bull; Finns det särskilt viktiga miljöer och områden
  att bevara och utveckla?\n&bull; Hur skulle ni vilja ha det om 10 år?\n\n\
 nKlicka för inbjudningsblad\n\n\n \n
CONTACT:Nina Stenbacka, Åtgärdssamordnare 
X-EXTRAINFO:Anmälan senast torsdag 9 maj\nMed mail till: Den här e-postadressen skyddas
  mot spambots. Du måste tillåta JavaScript för att se den.
				document.get
 ElementById('cloake33daed0e893593520975008ca4efc66').innerHTML = '';
				va
 r prefix = '&#109;a' + 'i&#108;' + '&#116;o';
				var path = 'hr' + 'ef' + 
 '=';
				var addye33daed0e893593520975008ca4efc66 = 'n&#105;n&#97;.st&#101;
 nb&#97;ck&#97;' + '&#64;';
				addye33daed0e893593520975008ca4efc66 = addye
 33daed0e893593520975008ca4efc66 + '&#117;m&#101;&#97;' + '&#46;' + 's&#101;
 ';
				var addy_texte33daed0e893593520975008ca4efc66 = 'n&#105;n&#97;.st&#1
 01;nb&#97;ck&#97;' + '&#64;' + '&#117;m&#101;&#97;' + '&#46;' + 's&#101;';d
 ocument.getElementById('cloake33daed0e893593520975008ca4efc66').innerHTML +
 = ''+addy_texte33daed0e893593520975008ca4efc66+'';
		 eller telefon 090-16 
 66 77
DTSTAMP:20260420T132713Z
DTSTART:20190514T180000Z
DTEND:20190514T203000Z
SEQUENCE:0
TRANSP:OPAQUE
END:VEVENT
END:VCALENDAR