BEGIN:VCALENDAR
VERSION:2.0
PRODID:-//jEvents 2.0 for Joomla//EN
CALSCALE:GREGORIAN
METHOD:PUBLISH
BEGIN:VEVENT
UID:9dac02ed0f03cee5b93f340c69861f22
CATEGORIES:Allmänt
SUMMARY:Morsdagslunch på Wärdshuset
LOCATION:Wärdhuset, Tavelsjö Strandvägen 25
DESCRIPTION;ENCODING=QUOTED-PRINTABLE:\n\n\n
CONTACT:070-243 29 40  http://wardshusettavelsjo.se
X-EXTRAINFO:Söndag 26 maj erbjuder vi en tvårätters morsdagslunch för 250 kr/pers. Barn
  5-12 år 125 kr. \nMeny:\nUgnsbakad lax med pressad potatis och romsås \nLy
 xig salt kolapannacotta och chokladmousse till efterrätt\n\nVeganer/vegetar
 ianer erbjuds\nUgnsbakad aubergine med vegansk skagenröra och pressad potat
 is \nLyxig salt kolapannacotta och chokladmousse till efterrätt \n\nEndast 
 bokningar och sittningen är kl 12 på morsdag. \nBoka senast 21 maj på 070-2
 432940 eller via messenger eller Mail: Den här e-postadressen skyddas mot s
 pambots. Du måste tillåta JavaScript för att se den.
				document.getElemen
 tById('cloakab774472935124a7561195ac376643b3').innerHTML = '';
				var pref
 ix = '&#109;a' + 'i&#108;' + '&#116;o';
				var path = 'hr' + 'ef' + '=';
	
 			var addyab774472935124a7561195ac376643b3 = 'w&#97;rdsh&#117;s&#101;t' + 
 '&#64;';
				addyab774472935124a7561195ac376643b3 = addyab774472935124a7561
 195ac376643b3 + 't&#97;v&#101;lsj&#111;' + '&#46;' + 's&#101;';
				var add
 y_textab774472935124a7561195ac376643b3 = 'w&#97;rdsh&#117;s&#101;t' + '&#64
 ;' + 't&#97;v&#101;lsj&#111;' + '&#46;' + 's&#101;';document.getElementById
 ('cloakab774472935124a7561195ac376643b3').innerHTML += ''+addy_textab774472
 935124a7561195ac376643b3+'';
		 (kolla skräppost för bekräftelse)
DTSTAMP:20260420T135030Z
DTSTART:20190526T120000Z
DTEND:20190526T150000Z
SEQUENCE:0
TRANSP:OPAQUE
END:VEVENT
END:VCALENDAR