BEGIN:VCALENDAR
VERSION:2.0
PRODID:-//jEvents 2.0 for Joomla//EN
CALSCALE:GREGORIAN
METHOD:PUBLISH
BEGIN:VEVENT
UID:fd5b9f00db68aabb99b655a6d277de0c
CATEGORIES:Allmänt
SUMMARY:Palt i Överrödå Byastuga
LOCATION:Överrödå Byastuga
DESCRIPTION;ENCODING=QUOTED-PRINTABLE:<p>Rykande varm palt med alla tillbehör. Kaffe o kaka. Lotteri. Hämtpalt fr
 ån kl 14,30, i mån av tillgång.</p>
CONTACT:Anita Nilsson 070-28 93 193
DTSTAMP:20260420T150644Z
DTSTART:20190518T130000Z
SEQUENCE:0
TRANSP:OPAQUE
END:VEVENT
END:VCALENDAR