BEGIN:VCALENDAR
VERSION:2.0
PRODID:-//jEvents 2.0 for Joomla//EN
CALSCALE:GREGORIAN
METHOD:PUBLISH
BEGIN:VEVENT
UID:035f2736c6da96f0fdee747189621d78
CATEGORIES:Allmänt
SUMMARY:Fullbokat/ Gullsjö Pizzeria
LOCATION:Gullsjö Bröd, Fagerlund 106
DESCRIPTION;ENCODING=QUOTED-PRINTABLE:\n\n\n
CONTACT:Bokning 070 3721104 Helen Roslund
X-EXTRAINFO: Fredagar och lördagar under maj månad eldar jag i ugnen \noch ni kan boka 
 pizza och äta i Bageriet.\n 6-10 personer får plats. \n Tomat, ost, grillad
  svamp, grillad inlagd zuccini, parmesan.....m.m\n Bordsdryck, Kaffe och en
  efterrätt. 98:-/ vuxen\n Vill ni dricka något annat så ta med Er.\n 18.00 
 eller om Ni fyller platserna, eller den tid som passar.\n P.S Det grova råg
 brödet finns också D.S\nHjärtligt Välkommen!
DTSTAMP:20260420T150352Z
DTSTART:20190517T180000Z
DTEND:20190517T200000Z
SEQUENCE:0
TRANSP:OPAQUE
END:VEVENT
END:VCALENDAR