BEGIN:VCALENDAR
VERSION:2.0
PRODID:-//jEvents 2.0 for Joomla//EN
CALSCALE:GREGORIAN
METHOD:PUBLISH
BEGIN:VEVENT
UID:96e18395b43dfab875a7212b753c3f60
CATEGORIES:Allmänt
SUMMARY:Torsdagscafe´ i Kroksjö
LOCATION:Kroksjö byastugan
DESCRIPTION;ENCODING=QUOTED-PRINTABLE:\n\n\n
CONTACT:Kroksjö Byalag Barbro
X-EXTRAINFO:Fika och trevlig gemenskap
DTSTAMP:20260422T105517Z
DTSTART:20190516T133000Z
DTEND:20190516T153000Z
SEQUENCE:0
TRANSP:OPAQUE
END:VEVENT
END:VCALENDAR