BEGIN:VCALENDAR
VERSION:2.0
PRODID:-//jEvents 2.0 for Joomla//EN
CALSCALE:GREGORIAN
METHOD:PUBLISH
BEGIN:VEVENT
UID:a305cbd853fca5a4de66a238aa1d0171
CATEGORIES:Allmänt
SUMMARY:Bilträff i Rödåsel
LOCATION:Rödå Antik i Rödåsel
DESCRIPTION;ENCODING=QUOTED-PRINTABLE:\n\n\n
CONTACT:Ewa / 070-3626557
X-EXTRAINFO:Välkomna till årets bilträff på Antikens hus i Rödåsel.\nHamburgare & Kaffe
 försäljning
DTSTAMP:20260420T103044Z
DTSTART:20190530T110000Z
DTEND:20190530T150000Z
SEQUENCE:0
TRANSP:OPAQUE
END:VEVENT
END:VCALENDAR