BEGIN:VCALENDAR
VERSION:2.0
PRODID:-//jEvents 2.0 for Joomla//EN
CALSCALE:GREGORIAN
METHOD:PUBLISH
BEGIN:VEVENT
UID:2fa4716abe4c4d05eaa331d7dddb35cd
CATEGORIES:Allmänt
SUMMARY:Nytt om grönsaker med frukost
LOCATION:Kroksjö Byastuga
DESCRIPTION;ENCODING=QUOTED-PRINTABLE:\n\n\n
CONTACT:Anmälan till Ann-Britt, tel 070-2916019
X-EXTRAINFO:Välkommen på Frukostmöte med Maria Karlsson lördag 4 maj kl 09.00. Maria ko
 mmer att tala om grönsaksodling i norr.\nKroksjö byalag\n
DTSTAMP:20260420T132822Z
DTSTART:20190504T090000Z
DTEND:20190504T110000Z
SEQUENCE:0
TRANSP:OPAQUE
END:VEVENT
END:VCALENDAR