BEGIN:VCALENDAR
VERSION:2.0
PRODID:-//jEvents 2.0 for Joomla//EN
CALSCALE:GREGORIAN
METHOD:PUBLISH
BEGIN:VEVENT
UID:b78d500c02a3cbd24e3b4846eb212385
CATEGORIES:Allmänt
SUMMARY:Mobil mötesplats Tjej kväll
LOCATION:Tavelsjö församlingsgården
DESCRIPTION;ENCODING=QUOTED-PRINTABLE:\n\n\n
CONTACT:Anmäla dig via SMS för taco-middag senast 16/5: 070–Den här e-postadressen skyddas mot spambots. Du måste tillåta JavaScript för att se den.
				document.getElementById('cloak9a1fa92eff41a9b430a2ee902a227c29').innerHTML = '';
				var prefix = '&#109;a' + 'i&#108;' + '&#116;o';
				var path = 'hr' + 'ef' + '=';
				var addy9a1fa92eff41a9b430a2ee902a227c29 = '2156434th&#101;r&#101;s&#101;.&#111;st&#101;nss&#111;n' + '&#64;';
				addy9a1fa92eff41a9b430a2ee902a227c29 = addy9a1fa92eff41a9b430a2ee902a227c29 + '&#117;m&#101;&#97;' + '&#46;' + 's&#101;';
				var addy_text9a1fa92eff41a9b430a2ee902a227c29 = '2156434th&#101;r&#101;s&#101;.&#111;st&#101;nss&#111;n' + '&#64;' + '&#117;m&#101;&#97;' + '&#46;' + 's&#101;';document.getElementById('cloak9a1fa92eff41a9b430a2ee902a227c29').innerHTML += ''+addy_text9a1fa92eff41a9b430a2ee902a227c29+'';
		
X-EXTRAINFO:Tillsammans med ungdomar i Tavelsjö arrangerar Mobil Mötesplats en tjejkväl
 l för alla som identifierar sig som tjejer och icke-binära.\nÅlder: 13-17 å
 r\nKvällen inleds med tacos som vi lagar ihop tillsammans. \nAnmäla dig via
  SMS för taco-middag senast 16/5: 070–2156434\nSedan kommer aktiviteter sås
 om smyckestillverkning, nail-art, VR, tv-spel, bakning och film att finnas.
 \nVälkommen till en grymt rolig kväll tillsammans!\n\n
DTSTAMP:20260420T150515Z
DTSTART:20190517T180000Z
DTEND:20190517T220000Z
SEQUENCE:0
TRANSP:OPAQUE
END:VEVENT
END:VCALENDAR