BEGIN:VCALENDAR
VERSION:2.0
PRODID:-//jEvents 2.0 for Joomla//EN
CALSCALE:GREGORIAN
METHOD:PUBLISH
BEGIN:VEVENT
UID:07fb40bd021de09c3e0c4baa98af21db
CATEGORIES:Allmänt
SUMMARY:Danskväll Tavelsjö Bygdegård
LOCATION:Tavelsjö Bygdegård
DESCRIPTION;ENCODING=QUOTED-PRINTABLE:\n\n\n\n\nMusik: Sten-Åke Ringlöfs trio\n\n\nTavelsjö bygdegård, lördagen d
 en 12 maj kl. 19-23\n\n\nGaranterat lika roligt som senast!\n\n\nBåde moder
 nt och gammaldans\n\n\nFikaförsäljning\n\n\nInträde: 100 kr\n\n\nArrangör:\
 n\n\nTavelsjö Hembygdsförening i samarbete med Studieförbundet Vuxenskolan,
  Umeå\n
CONTACT:Rolf Appelblad 070-681 35 71
DTSTAMP:20260420T132822Z
DTSTART:20190504T190000Z
DTEND:20190504T230000Z
SEQUENCE:0
TRANSP:OPAQUE
END:VEVENT
END:VCALENDAR