BEGIN:VCALENDAR
VERSION:2.0
PRODID:-//jEvents 2.0 for Joomla//EN
CALSCALE:GREGORIAN
METHOD:PUBLISH
BEGIN:VEVENT
UID:2da98a43fca355f8a94e7d0e1dba1a8b
CATEGORIES:Allmänt
SUMMARY:Prova på SLÖJD - Tälja
LOCATION:Sundlingska Gården, Tavelsjö
DESCRIPTION;ENCODING=QUOTED-PRINTABLE:\n\nTema: täljning med kniv, yxa och bandkniv.\n\n\n\nFör nybörjare och for
 tsättare.\n\n\nHårdslöjdskonsulent Isac Enetjärn, Västerbottens läns hemslö
 jdsförening lär ut grunderna för täljning, knivhantering och materialkunska
 p. Knivar och fint material för enklare täljprojekt finns att tillgå.\n\n\n
 Frågor: Isac 070-276 63 99 Den här e-postadressen skyddas mot spambots. Du 
 måste tillåta JavaScript för att se den.
				document.getElementById('cloak
 0fe4faf44696ae9aacd43b6d80a9c2ee').innerHTML = '';
				var prefix = '&#109;
 a' + 'i&#108;' + '&#116;o';
				var path = 'hr' + 'ef' + '=';
				var addy0
 fe4faf44696ae9aacd43b6d80a9c2ee = '&#105;s&#97;c.&#101;n&#101;tj&#97;rn' + 
 '&#64;';
				addy0fe4faf44696ae9aacd43b6d80a9c2ee = addy0fe4faf44696ae9aacd
 43b6d80a9c2ee + 'h&#101;msl&#111;jd' + '&#46;' + '&#111;rg';
				var addy_t
 ext0fe4faf44696ae9aacd43b6d80a9c2ee = '&#105;s&#97;c.&#101;n&#101;tj&#97;rn
 ' + '&#64;' + 'h&#101;msl&#111;jd' + '&#46;' + '&#111;rg';document.getEleme
 ntById('cloak0fe4faf44696ae9aacd43b6d80a9c2ee').innerHTML += ''+addy_text0f
 e4faf44696ae9aacd43b6d80a9c2ee+'';
		\n\n\nVarje kort-kurs kostar 150:- och
  medlemmar i Tavelsjö Hembygdsförening eller Västerbottens läns Hemslöjdsfö
 rening har rabatt.\n\n\nVi vill ha föranmälan för att veta gruppstorlek och
  kunna ordna fika.\n\n\nAnmälan till: Karin Ågren 070&ndash;6695743 Den här
  e-postadressen skyddas mot spambots. Du måste tillåta JavaScript för att s
 e den.
				document.getElementById('cloak3998e46e6b896af9755dbe7e6c2e5ef3')
 .innerHTML = '';
				var prefix = '&#109;a' + 'i&#108;' + '&#116;o';
				va
 r path = 'hr' + 'ef' + '=';
				var addy3998e46e6b896af9755dbe7e6c2e5ef3 = 
 'k&#97;r&#105;n.&#97;gr&#101;n' + '&#64;';
				addy3998e46e6b896af9755dbe7e
 6c2e5ef3 = addy3998e46e6b896af9755dbe7e6c2e5ef3 + 't&#97;v&#101;lsj&#111;' 
 + '&#46;' + 's&#101;';
				var addy_text3998e46e6b896af9755dbe7e6c2e5ef3 = 
 'k&#97;r&#105;n.&#97;gr&#101;n' + '&#64;' + 't&#97;v&#101;lsj&#111;' + '&#4
 6;' + 's&#101;';document.getElementById('cloak3998e46e6b896af9755dbe7e6c2e5
 ef3').innerHTML += ''+addy_text3998e46e6b896af9755dbe7e6c2e5ef3+'';
		\n
CONTACT:Karin Ågren 070–6695743
DTSTAMP:20260420T150622Z
DTSTART:20190518T090000Z
DTEND:20190518T120000Z
SEQUENCE:0
TRANSP:OPAQUE
END:VEVENT
END:VCALENDAR