BEGIN:VCALENDAR
VERSION:2.0
PRODID:-//jEvents 2.0 for Joomla//EN
CALSCALE:GREGORIAN
METHOD:PUBLISH
BEGIN:VEVENT
UID:27cc4802225fd4d26e4812efe25f7cc6
CATEGORIES:Allmänt
SUMMARY:24 maj Paltmiddag
LOCATION:Vindel Ånäsets byastuga
DESCRIPTION;ENCODING=QUOTED-PRINTABLE:\n\n\n
CONTACT:Vindel-Ånäset Bya Sida
X-EXTRAINFO:24 maj Paltmiddag
DTSTAMP:20260420T132806Z
DTSTART:20190524T183000Z
DTEND:20190524T200000Z
SEQUENCE:0
TRANSP:OPAQUE
END:VEVENT
END:VCALENDAR