BEGIN:VCALENDAR
VERSION:2.0
PRODID:-//jEvents 2.0 for Joomla//EN
CALSCALE:GREGORIAN
METHOD:PUBLISH
BEGIN:VEVENT
UID:11a7d4f14191169131ae1a69e7022bce
CATEGORIES:Allmänt
SUMMARY:öppet Nordenssons Gårdsbutik
LOCATION:Kroksjö 32
DESCRIPTION;ENCODING=QUOTED-PRINTABLE:\n\nÖppet\n
CONTACT:Elin 070-650 6163
X-EXTRAINFO:Vårens öppentider Nordenssons Gårdsbutik
DTSTAMP:20260420T150627Z
DTSTART:20190525T110000Z
DTEND:20190525T150000Z
SEQUENCE:0
TRANSP:OPAQUE
END:VEVENT
END:VCALENDAR