BEGIN:VCALENDAR
VERSION:2.0
PRODID:-//jEvents 2.0 for Joomla//EN
CALSCALE:GREGORIAN
METHOD:PUBLISH
BEGIN:VEVENT
UID:ea653baa783417b6ca0f2bb9f5d27518
CATEGORIES:Allmänt
SUMMARY:Biblioteksbussen tidtabell Rödåsel
LOCATION:Skolan Rödåsel , Bygdegården
DESCRIPTION;ENCODING=QUOTED-PRINTABLE:\n\n\n
CONTACT:090-16 33 32, 070-216 26 98  
X-EXTRAINFO: 13/2 , 27 / 3 , 15 / 5\nSkolan Rödåsel  09:00 - 11:15\nBygdegården      12
 :00 - 13:00
DTSTAMP:20260420T150634Z
DTSTART:20190515T090000Z
DTEND:20190515T130000Z
SEQUENCE:0
TRANSP:OPAQUE
END:VEVENT
END:VCALENDAR