BEGIN:VCALENDAR
VERSION:2.0
PRODID:-//jEvents 2.0 for Joomla//EN
CALSCALE:GREGORIAN
METHOD:PUBLISH
BEGIN:VEVENT
UID:0db8503982fb6b5ca45587a9351cc21a
CATEGORIES:Allmänt
SUMMARY:Biblioteksbussen tidtabell
LOCATION:Tavelsjö skola
DESCRIPTION;ENCODING=QUOTED-PRINTABLE:\n\n\n
CONTACT:090-16 33 32, 070-216 26 98  
X-EXTRAINFO:11/2 , 25/3 , 13/5 
DTSTAMP:20260420T132836Z
DTSTART:20190513T093000Z
DTEND:20190513T143000Z
SEQUENCE:0
TRANSP:OPAQUE
END:VEVENT
END:VCALENDAR